BEGIN:VCALENDAR
VERSION:2.0
PRODID:-//FKM UI - ECPv6.13.2.1//NONSGML v1.0//EN
CALSCALE:GREGORIAN
METHOD:PUBLISH
X-WR-CALNAME:FKM UI
X-ORIGINAL-URL:https://fkm.ui.ac.id
X-WR-CALDESC:Events for FKM UI
REFRESH-INTERVAL;VALUE=DURATION:PT1H
X-Robots-Tag:noindex
X-PUBLISHED-TTL:PT1H
BEGIN:VTIMEZONE
TZID:UTC
BEGIN:STANDARD
TZOFFSETFROM:+0000
TZOFFSETTO:+0000
TZNAME:UTC
DTSTART:20260101T000000
END:STANDARD
END:VTIMEZONE
BEGIN:VEVENT
DTSTART;TZID=UTC:20260408T130000
DTEND;TZID=UTC:20260408T150000
DTSTAMP:20260426T040825
CREATED:20260407T010759Z
LAST-MODIFIED:20260407T014704Z
UID:45462-1775653200-1775660400@fkm.ui.ac.id
SUMMARY:FKM UI Menerima Kunjungan SMA Negeri 78 Jakarta
DESCRIPTION:FKM UI Menerima Kunjungan SMA Negeri 78 Jakarta\nTempat = Ruang Promosi Doktor Gedung G FKM UI\nWaktu = 8 April 13:00-15:00
URL:https://fkm.ui.ac.id/event/fkm-ui-menerima-kunjungan-sma-negeri-78-jakarta/
CATEGORIES:Agenda
END:VEVENT
END:VCALENDAR