BEGIN:VCALENDAR
VERSION:2.0
PRODID:-//FKM UI - ECPv6.13.2.1//NONSGML v1.0//EN
CALSCALE:GREGORIAN
METHOD:PUBLISH
X-WR-CALNAME:FKM UI
X-ORIGINAL-URL:https://fkm.ui.ac.id
X-WR-CALDESC:Events for FKM UI
REFRESH-INTERVAL;VALUE=DURATION:PT1H
X-Robots-Tag:noindex
X-PUBLISHED-TTL:PT1H
BEGIN:VTIMEZONE
TZID:UTC
BEGIN:STANDARD
TZOFFSETFROM:+0000
TZOFFSETTO:+0000
TZNAME:UTC
DTSTART:20260101T000000
END:STANDARD
END:VTIMEZONE
BEGIN:VEVENT
DTSTART;TZID=UTC:20260409T090000
DTEND;TZID=UTC:20260409T110000
DTSTAMP:20260426T040819
CREATED:20260407T014535Z
LAST-MODIFIED:20260407T014626Z
UID:45464-1775725200-1775732400@fkm.ui.ac.id
SUMMARY:FKM UI Menerima Kunjungan MAN 2 Kota Malang & SMA Labs School Kaizen Bogor
DESCRIPTION:FKM UI Menerima Kunjungan MAN 2 Kota Malang & SMA Labs School Kaizen Bogor\nTempat = Ruang Promosi Doktor Gedung G FKM UI\nWaktu = 9 April 2026 09:00 – 11:00
URL:https://fkm.ui.ac.id/event/fkm-ui-menerima-kunjungan-man-2-kota-malang-sma-labs-school-kaizen-bogor/
CATEGORIES:Agenda
END:VEVENT
END:VCALENDAR