BEGIN:VCALENDAR
VERSION:2.0
PRODID:-//FKM UI - ECPv6.13.2.1//NONSGML v1.0//EN
CALSCALE:GREGORIAN
METHOD:PUBLISH
X-WR-CALNAME:FKM UI
X-ORIGINAL-URL:https://fkm.ui.ac.id
X-WR-CALDESC:Events for FKM UI
REFRESH-INTERVAL;VALUE=DURATION:PT1H
X-Robots-Tag:noindex
X-PUBLISHED-TTL:PT1H
BEGIN:VTIMEZONE
TZID:UTC
BEGIN:STANDARD
TZOFFSETFROM:+0000
TZOFFSETTO:+0000
TZNAME:UTC
DTSTART:20260101T000000
END:STANDARD
END:VTIMEZONE
BEGIN:VEVENT
DTSTART;TZID=UTC:20260415T090000
DTEND;TZID=UTC:20260415T230000
DTSTAMP:20260426T040821
CREATED:20260410T011240Z
LAST-MODIFIED:20260410T011240Z
UID:45543-1776243600-1776294000@fkm.ui.ac.id
SUMMARY:FKM UI Menerima Kunjungan SMA Negeri 1 Sukabumi
DESCRIPTION:FKM UI Menerima Kunjungan SMA Negeri 1 Sukabumi\nHari\, tanggal : Rabu\, 15 April 2026\nWaktu           : 09.00 – 11.00\nTempat         : Ruang Promosi Doktor Gedung G Lantai 1
URL:https://fkm.ui.ac.id/event/fkm-ui-menerima-kunjungan-sma-negeri-1-sukabumi/
CATEGORIES:Agenda
END:VEVENT
END:VCALENDAR