BEGIN:VCALENDAR
VERSION:2.0
PRODID:-//FKM UI - ECPv6.13.2.1//NONSGML v1.0//EN
CALSCALE:GREGORIAN
METHOD:PUBLISH
X-WR-CALNAME:FKM UI
X-ORIGINAL-URL:https://fkm.ui.ac.id
X-WR-CALDESC:Events for FKM UI
REFRESH-INTERVAL;VALUE=DURATION:PT1H
X-Robots-Tag:noindex
X-PUBLISHED-TTL:PT1H
BEGIN:VTIMEZONE
TZID:UTC
BEGIN:STANDARD
TZOFFSETFROM:+0000
TZOFFSETTO:+0000
TZNAME:UTC
DTSTART:20260101T000000
END:STANDARD
END:VTIMEZONE
BEGIN:VEVENT
DTSTART;TZID=UTC:20260424T190000
DTEND;TZID=UTC:20260424T200000
DTSTAMP:20260425T175455
CREATED:20260423T032138Z
LAST-MODIFIED:20260423T032138Z
UID:45673-1777057200-1777060800@fkm.ui.ac.id
SUMMARY:Departemen Pendidikan Kesehatan dan Ilmu Perilaku – KPK Sehat – HMP FKM UI proudly presents: Faculty of Public Health UI Online Seminar Series 1 : Ethical Considerations in Health Communication Research: A Practical Workshop
DESCRIPTION:Departemen Pendidikan Kesehatan dan Ilmu Perilaku – KPK Sehat – HMP FKM UI proudly presents:\nFaculty of Public Health UI Online Seminar Series 1 :\nEthical Considerations in Health Communication Research: A Practical Workshop \n🎙️ Speakers & Topics:\nDr. Renata Schiavo\n‘What you need to know to get your papers accepted in Peer-Reviewed Journals” \nDien Anshari\, S.Sos.\, M.Si.\, Ph.D.\n“Ethical Issues in Health Promotion Research in Indonesia” \n🎤 Opening Speech:\nProf. Dr. Indri Hapsari Susilowati\, S.K.M.\, M.K.K.K.\nDekan FKM UI \n🗓️ Jumat\, 24 April 2026\n⏰ 19.00 – 20.00 WIB\n💻 Zoom Meeting \nSeminar ini akan membahas aspek etika dalam riset komunikasi kesehatan serta insight praktis untuk meningkatkan peluang publikasi di jurnal bereputasi ✨ \n🌐 Catatan: Seminar akan disampaikan secara bilingual (Bahasa Indonesia & English) \n🔗 Join via Zoom di sini:\nhttp://bit.ly/ethics-in-healthcomms  \n(atau scan barcode pada poster) \nJangan sampai ketinggalan—topik ini sangat relevan untuk kamu yang sedang riset\, publikasi\, atau menyusun tesis 📚 \nSee you there 👋 \n#FKMUI #FKMUILuhurdanUnggul
URL:https://fkm.ui.ac.id/event/departemen-pendidikan-kesehatan-dan-ilmu-perilaku-kpk-sehat-hmp-fkm-ui-proudly-presents-faculty-of-public-health-ui-online-seminar-series-1-ethical-considerations-in-health-comm/
CATEGORIES:Agenda
END:VEVENT
END:VCALENDAR