BEGIN:VCALENDAR
VERSION:2.0
PRODID:-//FKM UI - ECPv6.13.2.1//NONSGML v1.0//EN
CALSCALE:GREGORIAN
METHOD:PUBLISH
X-ORIGINAL-URL:https://fkm.ui.ac.id
X-WR-CALDESC:Events for FKM UI
REFRESH-INTERVAL;VALUE=DURATION:PT1H
X-Robots-Tag:noindex
X-PUBLISHED-TTL:PT1H
BEGIN:VTIMEZONE
TZID:UTC
BEGIN:STANDARD
TZOFFSETFROM:+0000
TZOFFSETTO:+0000
TZNAME:UTC
DTSTART:20260101T000000
END:STANDARD
END:VTIMEZONE
BEGIN:VEVENT
DTSTART;TZID=UTC:20260420T090000
DTEND;TZID=UTC:20260420T110000
DTSTAMP:20260420T003319
CREATED:20260416T014235Z
LAST-MODIFIED:20260416T014235Z
UID:45578-1776675600-1776682800@fkm.ui.ac.id
SUMMARY:FKM UI Menerima Kunjungan SMAIT Al-Fityan Boarding School Bogor
DESCRIPTION:FKM UI Menerima Kunjungan SMAIT Al-Fityan Boarding School Bogor\nHari\, tanggal: Senin\, 20 April 2026\nTempat : Ruang Guru Besar Gedung G Lantai 1\nWaktu : 09:00 s.d. 11:00
URL:https://fkm.ui.ac.id/event/fkm-ui-menerima-kunjungan-smait-al-fityan-boarding-school-bogor/
CATEGORIES:Agenda
END:VEVENT
END:VCALENDAR