BEGIN:VCALENDAR
VERSION:2.0
PRODID:-//FKM UI - ECPv6.13.2.1//NONSGML v1.0//EN
CALSCALE:GREGORIAN
METHOD:PUBLISH
X-WR-CALNAME:FKM UI
X-ORIGINAL-URL:https://fkm.ui.ac.id
X-WR-CALDESC:Events for FKM UI
REFRESH-INTERVAL;VALUE=DURATION:PT1H
X-Robots-Tag:noindex
X-PUBLISHED-TTL:PT1H
BEGIN:VTIMEZONE
TZID:UTC
BEGIN:STANDARD
TZOFFSETFROM:+0000
TZOFFSETTO:+0000
TZNAME:UTC
DTSTART:20260101T000000
END:STANDARD
END:VTIMEZONE
BEGIN:VEVENT
DTSTART;TZID=UTC:20260427T080000
DTEND;TZID=UTC:20260501T170000
DTSTAMP:20260425T144053
CREATED:20260423T032453Z
LAST-MODIFIED:20260423T032453Z
UID:45677-1777276800-1777654800@fkm.ui.ac.id
SUMMARY:WCU EQUITY Visiting Professor Program
DESCRIPTION:Welcoming\nProf. Dr. Riza Yosia Sunindijo\n(Professor\, School of Built Environment\, UNSW Sydney) \nJoin a series of lectures\, seminars\, workshops\, and research clinics exploring key issues in occupational health\, safety\, and workplace wellbeing. \nThis program also highlights leadership\, mental health\, safety culture\, and strategies for developing research and publishing in international journals.\n📅 April 27 – May 1\, 2026\n📍 Faculty of Public Health\, Universitas Indonesia \nOrganized by the Department of Occupational Health and Safety\, Faculty of Public Health\, Universitas Indonesia \n#FKMUI #UniversitasIndonesia #OccupationalHealth #WorkplaceSafety #PublicHealth #ResearchDevelopment #InternationalCollaboration #WCU #VisitingProfessor
URL:https://fkm.ui.ac.id/event/wcu-equity-visiting-professor-program/
CATEGORIES:Agenda
END:VEVENT
BEGIN:VEVENT
DTSTART;TZID=UTC:20260502T090000
DTEND;TZID=UTC:20260503T160000
DTSTAMP:20260425T144053
CREATED:20260416T014427Z
LAST-MODIFIED:20260416T014427Z
UID:45582-1777712400-1777824000@fkm.ui.ac.id
SUMMARY:UI Open Days
DESCRIPTION:UI Open Days\nHari\, tanggal : Sabtu-Minggu\, 2-3 Mei 2026\nTempat : Balairung\nWaktu : 09:00 s.d. 16:00
URL:https://fkm.ui.ac.id/event/ui-open-days/
CATEGORIES:Agenda
END:VEVENT
END:VCALENDAR